BEGIN:VCALENDAR
VERSION:2.0
PRODID:-//Australian Hearing Hub - ECPv6.15.20//NONSGML v1.0//EN
CALSCALE:GREGORIAN
METHOD:PUBLISH
X-ORIGINAL-URL:https://hearinghub.edu.au
X-WR-CALDESC:Events for Australian Hearing Hub
REFRESH-INTERVAL;VALUE=DURATION:PT1H
X-Robots-Tag:noindex
X-PUBLISHED-TTL:PT1H
BEGIN:VTIMEZONE
TZID:Australia/Sydney
BEGIN:STANDARD
TZOFFSETFROM:+1100
TZOFFSETTO:+1000
TZNAME:AEST
DTSTART:20220402T160000
END:STANDARD
BEGIN:DAYLIGHT
TZOFFSETFROM:+1000
TZOFFSETTO:+1100
TZNAME:AEDT
DTSTART:20221001T160000
END:DAYLIGHT
BEGIN:STANDARD
TZOFFSETFROM:+1100
TZOFFSETTO:+1000
TZNAME:AEST
DTSTART:20230401T160000
END:STANDARD
BEGIN:DAYLIGHT
TZOFFSETFROM:+1000
TZOFFSETTO:+1100
TZNAME:AEDT
DTSTART:20230930T160000
END:DAYLIGHT
BEGIN:STANDARD
TZOFFSETFROM:+1100
TZOFFSETTO:+1000
TZNAME:AEST
DTSTART:20240406T160000
END:STANDARD
BEGIN:DAYLIGHT
TZOFFSETFROM:+1000
TZOFFSETTO:+1100
TZNAME:AEDT
DTSTART:20241005T160000
END:DAYLIGHT
END:VTIMEZONE
BEGIN:VEVENT
DTSTART;TZID=Australia/Sydney:20230814T093000
DTEND;TZID=Australia/Sydney:20230814T163000
DTSTAMP:20260423T183312
CREATED:20230616T050032Z
LAST-MODIFIED:20230725T085400Z
UID:14646-1692005400-1692030600@hearinghub.edu.au
SUMMARY:Beyond Speech Workshop 2023: Exploring cultural and linguistic diversity in children with hearing loss
DESCRIPTION:Many children with hearing loss communicate using more than one language\, or are otherwise culturally and linguistically diverse (CALD). Support services for children with hearing loss have a growing awareness of the specific needs of these groups. A better understanding of the strengths and challenges facing CALD children with hearing loss in developing language skills has the potential to achieve improved outcomes. Continuing from the Beyond Speech multidisciplinary workshops of 2020\, 2021 and 2022\, this year’s online workshop offers new research findings on how language development proceeds in children with hearing loss\, particularly in multilingual and CALD contexts. The workshop will also bring together perspectives from clinicians to discuss strategies to support children in these contexts. For more information or to register\, please see our website: http://goto.mq/beyondspeechworkshop2023 \n  \nThe Child Language lab is currently recruiting children for several studies: \n\nNormal hearing 2-6-year-olds speaking mainly English at home (email Nan Xu Rattanasone nan.xu@mq.edu.au)\nNormal hearing 4-6 year-olds\, using English as their only language (email Elise Tobin elise.tobin@hdr.mq.edu.au)\nNormal hearing 4-6 year-olds\, using English as their only language\, with a Speech Sound Disorder diagnosis & without additional needs (email Elise Tobin elise.tobin@hdr.mq.edu.au)\n\nOR register your general interest in participating in our studies here \nhttps://redcap.mq.edu.au/surveys/?s=X7KECL7J43
URL:https://hearinghub.edu.au/event/beyond-speech-workshop-2023-exploring-cultural-and-linguistic-diversity-in-children-with-hearing-loss/
LOCATION:Online
ATTACH;FMTTYPE=image/png:https://hearinghub.edu.au/wp-content/uploads/2021/06/BeyongSpeacWorkshop_logo_2021.png
END:VEVENT
BEGIN:VEVENT
DTSTART;TZID=Australia/Sydney:20230816T134500
DTEND;TZID=Australia/Sydney:20230816T170000
DTSTAMP:20260423T183312
CREATED:20230725T080250Z
LAST-MODIFIED:20230725T084643Z
UID:15082-1692193500-1692205200@hearinghub.edu.au
SUMMARY:Australian Hearing Hub showcase & celebration!
DESCRIPTION:A world-leading community transforming hearing and communication.\n \nDate: Wednesday 16th  August 2023 \nTime: 1.45pm to 5.00pm \nkeynote address by Dr Chris Roberts AO\,  former Chief Executive Officer of Cochlear Limited\, \npresentations for all the AHH member organisations\, \n& \nnetworking\, drinks\, & nibbles \nLocation: AHH Lecture Theatre (in person event only) \nRegister via Eventbrite \nAttendees: This event is only open to AHH members staff and students \nLet’s celebrate\, connect\, and be inspired by your AHH community. \nThe event will have live captioning and an infra-red hearing loop and receivers will be available at the venue. If you other accessibility requirements\, please contact Louise Dodd via email louise.dodd@mq.edu.au or via phone 0434 525 665.
URL:https://hearinghub.edu.au/event/australian-hearing-hub-showcase-celebration/
ATTACH;FMTTYPE=image/jpeg:https://hearinghub.edu.au/wp-content/uploads/2023/07/FMHHS67112_AHH-Infographic_PPT_16x9_V02.jpg
END:VEVENT
END:VCALENDAR