BEGIN:VCALENDAR
VERSION:2.0
PRODID:-//Australian Hearing Hub - ECPv6.15.20//NONSGML v1.0//EN
CALSCALE:GREGORIAN
METHOD:PUBLISH
X-WR-CALNAME:Australian Hearing Hub
X-ORIGINAL-URL:https://hearinghub.edu.au
X-WR-CALDESC:Events for Australian Hearing Hub
REFRESH-INTERVAL;VALUE=DURATION:PT1H
X-Robots-Tag:noindex
X-PUBLISHED-TTL:PT1H
BEGIN:VTIMEZONE
TZID:Australia/Sydney
BEGIN:STANDARD
TZOFFSETFROM:+1100
TZOFFSETTO:+1000
TZNAME:AEST
DTSTART:20220402T160000
END:STANDARD
BEGIN:DAYLIGHT
TZOFFSETFROM:+1000
TZOFFSETTO:+1100
TZNAME:AEDT
DTSTART:20221001T160000
END:DAYLIGHT
BEGIN:STANDARD
TZOFFSETFROM:+1100
TZOFFSETTO:+1000
TZNAME:AEST
DTSTART:20230401T160000
END:STANDARD
BEGIN:DAYLIGHT
TZOFFSETFROM:+1000
TZOFFSETTO:+1100
TZNAME:AEDT
DTSTART:20230930T160000
END:DAYLIGHT
BEGIN:STANDARD
TZOFFSETFROM:+1100
TZOFFSETTO:+1000
TZNAME:AEST
DTSTART:20240406T160000
END:STANDARD
BEGIN:DAYLIGHT
TZOFFSETFROM:+1000
TZOFFSETTO:+1100
TZNAME:AEDT
DTSTART:20241005T160000
END:DAYLIGHT
BEGIN:STANDARD
TZOFFSETFROM:+1100
TZOFFSETTO:+1000
TZNAME:AEST
DTSTART:20250405T160000
END:STANDARD
BEGIN:DAYLIGHT
TZOFFSETFROM:+1000
TZOFFSETTO:+1100
TZNAME:AEDT
DTSTART:20251004T160000
END:DAYLIGHT
END:VTIMEZONE
BEGIN:VEVENT
DTSTART;TZID=Australia/Sydney:20231209T000000
DTEND;TZID=Australia/Sydney:20231209T000000
DTSTAMP:20260421T200900
CREATED:20230518T012946Z
LAST-MODIFIED:20230619T024021Z
UID:13554-1702080000-1702080000@hearinghub.edu.au
SUMMARY:HMA Café & Chat 2023
DESCRIPTION:Hearing Matters Australia (HMA) is a voluntary\, self-funded\, non-for-profit consumer organisation incorporated in New South Wales.  HMA was founded in 1983 and has been dedicated to provide unbiased advice and support based on members’ lived experience to help deaf/hard of hearing people to live a better quality of life. \nIn 2023\, Hearing Matters Australia (HMA) continues to host free & casual face-to- face Café & Chat sessions at AHH aiming to get people connecting and chatting to bring more awareness of hearing loss and ways to protect our hearing and manage hearing loss. \nWelcome everyone to join HMA’s Café & Chat scheduled in the table below. \nCoffee\, tea and refreshments will be served. \n\n\n\nFriday 3 February 2023\n9.30~11:30 am\nRSVP by 1 Feb 2023\n\n\nFriday 5 May 2023\n9.30~11:30 am\nRSVP by 3 May 2023\n\n\nFriday 4 August 2023\n9.30~11:30 am\nRSVP by 2 Aug 2023\n\n\nFriday 3 November 2023\n9.30~11:30 am\nRSVP by 1 Nov 2022\n\n\n\nLocation: Hearing Matters Australia\, The Australia Hearing Hub\, 16 University Ave\, Macquarie University\, NSW 2109 \nPlease RSVP your attendances via Email: admin@hearingmattersaustralia.org\, or Call: 02 9878 6089 or Text/SMS: 0477 785 525 \nMore services and activities can be found from HMA’s website: http://hearingmattersaustralia.org or Facebook page: https://www.facebook.com/HearingMattersAustInc
URL:https://hearinghub.edu.au/event/hma-cafe-chat-2023/
ATTACH;FMTTYPE=image/jpeg:https://hearinghub.edu.au/wp-content/uploads/2023/05/Hearing-Matters-Australia-logo-2.jpg
END:VEVENT
BEGIN:VEVENT
DTSTART;TZID=Australia/Sydney:20231231T000000
DTEND;TZID=Australia/Sydney:20231231T000000
DTSTAMP:20260421T200900
CREATED:20230518T012946Z
LAST-MODIFIED:20230619T024613Z
UID:13555-1703980800-1703980800@hearinghub.edu.au
SUMMARY:NextSense Institute - calendar of events
DESCRIPTION:
URL:https://hearinghub.edu.au/event/nextsense-institute-calendar-of-events/
ATTACH;FMTTYPE=image/jpeg:https://hearinghub.edu.au/wp-content/uploads/2023/05/NextSense_Logo_square.jpg
END:VEVENT
BEGIN:VEVENT
DTSTART;TZID=Australia/Sydney:20231231T000000
DTEND;TZID=Australia/Sydney:20241220T000000
DTSTAMP:20260421T200900
CREATED:20230518T012947Z
LAST-MODIFIED:20230619T024832Z
UID:13556-1703980800-1734652800@hearinghub.edu.au
SUMMARY:Hear For You - Program of events
DESCRIPTION:
URL:https://hearinghub.edu.au/event/hear-for-you-program-of-events/
ATTACH;FMTTYPE=image/jpeg:https://hearinghub.edu.au/wp-content/uploads/2023/05/Hear-for-You-logo-squaer.jpg
END:VEVENT
BEGIN:VEVENT
DTSTART;TZID=Australia/Sydney:20231231T000000
DTEND;TZID=Australia/Sydney:20240713T000000
DTSTAMP:20260421T200900
CREATED:20230518T125804Z
LAST-MODIFIED:20230619T024911Z
UID:13629-1703980800-1720828800@hearinghub.edu.au
SUMMARY:Hearing Interest Group (HINT) - monthly meetings
DESCRIPTION:HINT is an internal forum for people from Macquarie University Hearing and members of the Australian Hearing Hub who are interested in hearing research\, networking\, and strengthening or forming new research collaborations. We encourage a mix of post-graduate students\, early career and senior researchers\, educators and clinicians to attend these monthly meetings.  \nHINT leaders group members include: \n\n Macquarie University Hearing – Dr John Newall\nMacquarie University Hearing – Dr Kelly Miles\nNextSense – Inge Kaltenbrunn\nHearing Australia – Emma Scanlan\nNational Acoustic Laboratories – Dr Padraig Kitterick\nThe Shepherd Centre – Dr Pia Watkins\nCochlear – Chris Warren\nAustralian Hearing Hub – Louise Dodd\n\nThe group meet every month and there are presentations on varies topics from all the AHH member organisations. \nTo join HINT please email: louise.dodd@mq.edu.au 
URL:https://hearinghub.edu.au/event/hearing-interest-group-hint-monthly-meetings/
ATTACH;FMTTYPE=image/png:https://hearinghub.edu.au/wp-content/uploads/2022/08/HINT-infogranphic_V2.png
END:VEVENT
END:VCALENDAR